BEGIN:VCALENDAR
VERSION:2.0
PRODID:-//ChamberMaster//Event Calendar 2.0//EN
METHOD:PUBLISH
X-PUBLISHED-TTL:P3D
REFRESH-INTERVAL:P3D
CALSCALE:GREGORIAN
BEGIN:VEVENT
DTSTART:20241026T140000Z
DTEND:20241026T180000Z
X-MICROSOFT-CDO-ALLDAYEVENT:FALSE
SUMMARY:The Caregiver's Paradox: When It's Time to Care for Your Adult Parents
DESCRIPTION:Becoming a caregiver for a loved one can be confusing and intense. Many of us are in this role without even realizing. Are you noticing changes in behavior\, stepping in to coordinate doctor appointments\, sorting medications or calling constantly to check in? If so\, THAT is caregiving.
X-ALT-DESC;FMTTYPE=text/html:Becoming a caregiver for a loved one can be confusing and intense. Many of us are in this role without even realizing. Are you noticing changes in behavior\, stepping in to coordinate doctor appointments\, sorting medications or calling constantly to check in? If so\, THAT is caregiving.
LOCATION:Coastal Alabama Community College Fairhope Campus Centennial Hall Auditorium 48 South School Street\, Fairhope\, AL 36532
UID:e.1304.35706
SEQUENCE:3
DTSTAMP:20260425T165926Z
URL:http://business.eschamber.org/events/details/the-caregiver-s-paradox-when-it-s-time-to-care-for-your-adult-parents-35706
END:VEVENT

END:VCALENDAR
