BEGIN:VCALENDAR
VERSION:2.0
PRODID:-//ChamberMaster//Event Calendar 2.0//EN
METHOD:PUBLISH
X-PUBLISHED-TTL:P3D
REFRESH-INTERVAL:P3D
CALSCALE:GREGORIAN
BEGIN:VEVENT
DTSTART:20241123T150000Z
DTEND:20241124T000000Z
X-MICROSOFT-CDO-ALLDAYEVENT:FALSE
SUMMARY:The Christchurch Christmas Market
DESCRIPTION:Come and shop a variety of products from quality vendors and gifted artists from all over the Southeast.  This event offers an impressive display of unique gift items\, including antiques\, jewelry\, stained glass\, nativity sets\, silver\, original artwork\, hand-painted ornaments\, candies and pecans\, artisan breads & pastries\, Thanksgiving casseroles\, turkeys and much\, much more!\n\nSponsored by Christchurch Bookstore & Gift Shop
X-ALT-DESC;FMTTYPE=text/html:Come and shop a variety of products from quality vendors and gifted artists from all over the Southeast.&nbsp\; This event offers an impressive display of unique gift items\, including antiques\, jewelry\, stained glass\, nativity sets\, silver\, original artwork\, hand-painted ornaments\, candies and pecans\, artisan breads &amp\; pastries\, Thanksgiving casseroles\, turkeys and much\, much more!<br />\nSponsored by Christchurch Bookstore &amp\; Gift Shop&nbsp\;
LOCATION:Christchurch\, 8820 Vaughn Road\, Montgomery\, AL 36117 (formerly Southern Homes & Gardens
UID:e.1304.35720
SEQUENCE:3
DTSTAMP:20260425T153150Z
URL:http://business.eschamber.org/events/details/the-christchurch-christmas-market-35720
END:VEVENT

END:VCALENDAR
