BEGIN:VCALENDAR
VERSION:2.0
PRODID:-//ChamberMaster//Event Calendar 2.0//EN
METHOD:PUBLISH
X-PUBLISHED-TTL:P3D
REFRESH-INTERVAL:P3D
CALSCALE:GREGORIAN
BEGIN:VEVENT
DTSTART:20260123T010000Z
DTEND:20260123T023000Z
X-MICROSOFT-CDO-ALLDAYEVENT:FALSE
SUMMARY:The Duel At OWA: Dueling Pianos at Brandon Styles Theater
DESCRIPTION:Join us on Thursday\, January 22nd at 7:00 pm for a night of unforgettable piano fireworks! David "Jukebox" Butler and the talented Gulf Coast Piano Shows entertainers present THE DUEL AT OWA: DUELING PIANOS. Enjoy hits from Billy Joel\, Elton John\, and Jerry Lee Lewis\, along with sing-along classics\, interactive comedy\, and audience requests! Featuring David Butler and James Taylor\, this is an evening of fun you won't want to miss!
X-ALT-DESC;FMTTYPE=text/html:<span style="color:rgb(108\, 107\, 107)\; font-family:__montserrat_f56828\,__montserrat_fallback_f56828\; font-size:16px">Join us on Thursday\, January 22nd at 7:00 pm for a night of unforgettable piano fireworks! David &quot\;Jukebox&quot\; Butler and the talented Gulf Coast Piano Shows entertainers present THE DUEL AT OWA: DUELING PIANOS. Enjoy hits from Billy Joel\, Elton John\, and Jerry Lee Lewis\, along with sing-along classics\, interactive comedy\, and audience requests! Featuring David Butler and James Taylor\, this is an evening of fun you won&#39\;t want to miss!</span>
LOCATION:Brandon Styles Theater at OWA
UID:e.1304.39534
SEQUENCE:3
DTSTAMP:20260422T135358Z
URL:http://business.eschamber.org/events/details/the-duel-at-owa-dueling-pianos-at-brandon-styles-theater-39534
END:VEVENT

END:VCALENDAR
