BEGIN:VCALENDAR
VERSION:2.0
PRODID:-//ChamberMaster//Event Calendar 2.0//EN
METHOD:PUBLISH
X-PUBLISHED-TTL:P3D
REFRESH-INTERVAL:P3D
CALSCALE:GREGORIAN
BEGIN:VEVENT
DTSTART:20240613T220000Z
DTEND:20240614T000000Z
X-MICROSOFT-CDO-ALLDAYEVENT:FALSE
SUMMARY:The Great Men of Bourbon - The Art of Mixology
DESCRIPTION:For our June class\, the curators\, Raleigh Swan and Lane Ezell will guide each participant through the history of bourbon   its historical context and national importance. They will also elaborate on some of the more popular bourbon producers and their family history with the spirit. Each participant will be shown how to make two bourbon cocktails and each guest will imbibe specially selected bourbons throughout the experience. Chef Adam will pair snacks with each cocktail and all guests are welcome to dine at The Hope Farm afterwards to continue the evening in their own preferred fashion. What is included? Welcome Cocktail Two Bourbon based Cocktails Special tastings of Buffalo Trace\, Bookers\, Old Forester\, Elijah Craig and Blantons Bourbons Paired with Small Plates
X-ALT-DESC;FMTTYPE=text/html:For our June class\, the curators\, Raleigh Swan and Lane Ezell will guide each participant through the history of bourbon &ndash\; its historical context and national importance. They will also elaborate on some of the more popular bourbon producers and their family history with the spirit. Each participant will be shown how to make two bourbon cocktails and each guest will imbibe specially selected bourbons throughout the experience. Chef Adam will pair snacks with each cocktail and all guests are welcome to dine at The Hope Farm afterwards to continue the evening in their own preferred fashion. What is included? Welcome Cocktail Two Bourbon based Cocktails Special tastings of Buffalo Trace\, Bookers\, Old Forester\, Elijah Craig and Blantons Bourbons Paired with Small Plates
LOCATION:The Barn at The Hope Farm
UID:e.1304.31334
SEQUENCE:3
DTSTAMP:20260425T221601Z
URL:http://business.eschamber.org/events/details/the-great-men-of-bourbon-the-art-of-mixology-06-13-2024-31334
END:VEVENT

END:VCALENDAR
