BEGIN:VCALENDAR
VERSION:2.0
PRODID:-//ChamberMaster//Event Calendar 2.0//EN
METHOD:PUBLISH
X-PUBLISHED-TTL:P3D
REFRESH-INTERVAL:P3D
CALSCALE:GREGORIAN
BEGIN:VEVENT
DTSTART;VALUE=DATE:20251113
DTEND;VALUE=DATE:20251220
TRANSP:TRANSPARENT
X-MICROSOFT-CDO-ALLDAYEVENT:TRUE
SUMMARY:The Great Turkey Drive Presented by South Shore Insurance
DESCRIPTION:South Shore Insurance is committed to serving our community\, and we need your help!\n\n\n\nEach November\, The Great Turkey Drive collects donations to purchase complete holiday meals   every tax deductible $35 donation received enables us to donate a turkey dinner* to a family in need this Christmas. South Shore Insurance will match all donations "Turkey for Turkey" until a meal is provided for every family in need in Baldwin County this holiday season. Since 2014\, this annual turkey drive has met or exceeded our goal of providing a meal to every family in need in Baldwin County. It is through your generosity that we are able to expand our efforts to organizations who serve these families during the holidays and all year long.\n\nEvery donation will receive a printed receipt for your tax preparer. THANK YOU  for your help in providing meals to families in need this holiday season!\n\n*Includes: one 10-12 lb turkey or ham\, corn\, green beans\, stuffing\, cranberry sauce\, potatoes\, macaroni & cheese\, French fried onions\, gravy mix and brownie mix
X-ALT-DESC;FMTTYPE=text/html:<div>\n<h1 style="text-align:inherit"><span style="color:inherit">South Shore Insurance is committed to serving our community\, and we need your help!</span></h1>\n</div>\n\n<div>\n<p style="text-align:inherit">Each November\, The Great Turkey Drive collects donations to purchase complete holiday meals &ndash\; every tax deductible $35 donation received enables us to donate a turkey dinner* to a family in need this Christmas. South Shore Insurance will match all donations&nbsp\;<strong><em>&ldquo\;Turkey for Turkey&rdquo\;</em></strong>&nbsp\;until a meal is provided for every family in need in Baldwin County this holiday season. Since 2014\, this annual turkey drive has met or exceeded our goal of providing a meal to every family in need in Baldwin County. It is through your generosity that we are able to expand our efforts to organizations who serve these families during the holidays and all year long.</p>\n\n<p style="text-align:inherit">Every&nbsp\;donation will receive a printed receipt for your tax preparer.&nbsp\;<strong>THANK YOU</strong>&nbsp\;&nbsp\;for your help in providing meals to families in need this holiday season!</p>\n\n<p style="text-align:inherit"><em>*</em><em>Includes: one 10-12 lb turkey or ham\, corn\, green beans\, stuffing\, cranberry sauce\, potatoes\, macaroni &amp\; cheese\, French fried onions\, gravy mix and brownie mix</em></p>\n</div>\n
LOCATION:Donations can be made via Venmo @GreatTurkeyDrive or by stopping into one of our offices: Foley: 7801 State Hwy 59\, Suite G\, Foley\, AL 36535 Daphne: 26179-A Capital Drive\, Daphne\, AL 36526 Donations can also be made directly at the Baldwin County branch locations of Bryant Bank\, Cadence Bank and Renasant Bank. Special Thanks to Bryant Bank\, Renasant Bank and Cadence Bank for accepting donations directly at their Baldwin County branch locations. All Proceeds Benefit Catholic Social Services\, Prodisee Pantry & Ecumenical Ministries.
UID:e.1304.39504
SEQUENCE:3
DTSTAMP:20260422T172454Z
URL:http://business.eschamber.org/events/details/the-great-turkey-drive-presented-by-south-shore-insurance-11-13-2025-39504
END:VEVENT

END:VCALENDAR
