BEGIN:VCALENDAR
VERSION:2.0
PRODID:-//ChamberMaster//Event Calendar 2.0//EN
METHOD:PUBLISH
X-PUBLISHED-TTL:P3D
REFRESH-INTERVAL:P3D
CALSCALE:GREGORIAN
BEGIN:VEVENT
DTSTART:20241017T220000Z
DTEND:20241018T000000Z
X-MICROSOFT-CDO-ALLDAYEVENT:FALSE
SUMMARY:The Mother Cocktails - The Art of Mixology
DESCRIPTION:For our October mixology\, we'll be covering The Mother Cocktails! These are the cocktails that started it all. Cocktails as we know them have been around for 200 years. In that time\, we've seen the rise of the Old Fashioned\, The Martini\, The Whiskey Sour\, and The Punch. What's Included: 4 Cocktails History on the Cocktails Appetizers and small entr e
X-ALT-DESC;FMTTYPE=text/html:For our October mixology\, we&rsquo\;ll be covering The Mother Cocktails! These are the cocktails that started it all. Cocktails as we know them have been around for 200 years. In that time\, we&rsquo\;ve seen the rise of the Old Fashioned\, The Martini\, The Whiskey Sour\, and The Punch. What&rsquo\;s Included: 4 Cocktails History on the Cocktails Appetizers and small entr&eacute\;e
LOCATION:The Barn
UID:e.1304.35742
SEQUENCE:3
DTSTAMP:20260425T165933Z
URL:http://business.eschamber.org/events/details/the-mother-cocktails-the-art-of-mixology-10-17-2024-35742
END:VEVENT

END:VCALENDAR
