BEGIN:VCALENDAR
VERSION:2.0
PRODID:-//ChamberMaster//Event Calendar 2.0//EN
METHOD:PUBLISH
X-PUBLISHED-TTL:P3D
REFRESH-INTERVAL:P3D
CALSCALE:GREGORIAN
BEGIN:VEVENT
DTSTART:20240920T150000Z
DTEND:20240920T160000Z
X-MICROSOFT-CDO-ALLDAYEVENT:FALSE
SUMMARY:The Reserve Speaker Series: All Things Eastern Shore with Casey Williams
DESCRIPTION:Have you ever wondered how Fairhope became the charming and creative community that it is today? Casey Williams\, our Eastern Shore Chamber President\, is coming to The Reserve to speak to our community about all things Eastern Shore. During her presentation\, Casey will walk us through the rich history of the Gulf Coast area and the life and times of this town we call home.\n\n\n\nSpace is limited. RSVP for yourself and a guest today at 251.255.4840. RSVP by September 16\, 2024.
X-ALT-DESC;FMTTYPE=text/html:Have you ever wondered how Fairhope became the charming and creative community that it is today? Casey Williams\, our Eastern Shore Chamber President\, is coming to The Reserve to speak to our community about all things Eastern Shore. During her presentation\, Casey will walk us through the rich history of the Gulf Coast area and the life and times of this town we call home.<br />\n<br />\nSpace is limited. RSVP for yourself and a guest today at 251.255.4840. RSVP by September 16\, 2024.
LOCATION:THE RESERVE AT FAIRHOPE\, LIFE ENRICHMENT ROOM
UID:e.1304.35669
SEQUENCE:3
DTSTAMP:20260425T181345Z
URL:http://business.eschamber.org/events/details/the-reserve-speaker-series-all-things-eastern-shore-with-casey-williams-35669
END:VEVENT

END:VCALENDAR
