BEGIN:VCALENDAR
VERSION:2.0
PRODID:-//ChamberMaster//Event Calendar 2.0//EN
METHOD:PUBLISH
X-PUBLISHED-TTL:P3D
REFRESH-INTERVAL:P3D
CALSCALE:GREGORIAN
BEGIN:VEVENT
DTSTART:20241211T010000Z
DTEND:20241211T030000Z
X-MICROSOFT-CDO-ALLDAYEVENT:FALSE
SUMMARY:The Sounds of Christmas
DESCRIPTION:Baldwin County Youth Orchestra presents The Sounds of Christmas\, a Trans-Siberian Orchestra tribute.  Silent auction on site.
X-ALT-DESC;FMTTYPE=text/html:Baldwin County Youth Orchestra presents The Sounds of Christmas\, a Trans-Siberian Orchestra tribute.&nbsp\; Silent auction on site.
LOCATION:Daphne Civic Center\, 2603 US Hwy 98\, Daphne\, AL
UID:e.1304.35973
SEQUENCE:3
DTSTAMP:20260425T124344Z
URL:http://business.eschamber.org/events/details/the-sounds-of-christmas-35973
END:VEVENT

END:VCALENDAR
