BEGIN:VCALENDAR
VERSION:2.0
PRODID:-//ChamberMaster//Event Calendar 2.0//EN
METHOD:PUBLISH
X-PUBLISHED-TTL:P3D
REFRESH-INTERVAL:P3D
CALSCALE:GREGORIAN
BEGIN:VEVENT
DTSTART:20240210T210000Z
DTEND:20240210T230000Z
X-MICROSOFT-CDO-ALLDAYEVENT:FALSE
SUMMARY:The Wine Educational Series - North Coast California
DESCRIPTION:Where is North Coast California? What wines should we each be familiar from here? These are the questions that may run through our minds when discussing this growing region. However\, we are each more familiar with this area than we initially think. Have you heard of Napa or Sonoma? This is North Coast. Join us as we talk about and taste four different wines from this region. Our Wine Director\, Will Jones\, will thoroughly discuss whites and reds from Napa and Sonoma\, with food paired by our Executive Chef Adam Stephens. Some may be familiar others may be new favorites. Pairings: 1st Wine Silverado Sauvignon Blanc Napa Valley\, France Pairing: Poached Gulf Shrimp // Grapefruit Relish / tarragon   2nd Wine Hartford Court Chardonnay Napa Valley\, France Pairing: Preserved Lemon Hummus // Chili / Cucumber   3rd Wine Ridge "Three Valleys"  Sonoma County\, California Pairing: Smoked Pork Belly / Raspberry BBQ   4th Wine Post & Beam Cabernet Sauvignon Napa Valley\, France Pairing: Dark Chocolate Mousse / Luxard
X-ALT-DESC;FMTTYPE=text/html:Where is North Coast California? What wines should we each be familiar from here? These are the questions that may run through our minds when discussing this growing region. However\, we are each more familiar with this area than we initially think. Have you heard of Napa or Sonoma? This is North Coast. Join us as we talk about and taste four different wines from this region. Our Wine Director\, Will Jones\, will thoroughly discuss whites and reds from Napa and Sonoma\, with food paired by our Executive Chef Adam Stephens. Some may be familiar others may be new favorites. Pairings: 1st Wine Silverado Sauvignon Blanc Napa Valley\, France Pairing: Poached Gulf Shrimp // Grapefruit Relish / tarragon &nbsp\; 2nd Wine Hartford Court Chardonnay Napa Valley\, France Pairing: Preserved Lemon Hummus // Chili / Cucumber &nbsp\; 3rd Wine Ridge &ldquo\;Three Valleys&rdquo\; &nbsp\;Sonoma County\, California Pairing: Smoked Pork Belly / Raspberry BBQ &nbsp\; 4th Wine Post &amp\; Beam Cabernet Sauvignon Napa Valley\, France Pairing: Dark Chocolate Mousse / Luxard
LOCATION:The Barn at The Hope Farm
UID:e.1304.29098
SEQUENCE:3
DTSTAMP:20260426T034503Z
URL:http://business.eschamber.org/events/details/the-wine-educational-series-north-coast-california-29098
END:VEVENT

END:VCALENDAR
