BEGIN:VCALENDAR
VERSION:2.0
PRODID:-//ChamberMaster//Event Calendar 2.0//EN
METHOD:PUBLISH
X-PUBLISHED-TTL:P3D
REFRESH-INTERVAL:P3D
CALSCALE:GREGORIAN
BEGIN:VEVENT
DTSTART:20240817T200000Z
DTEND:20240817T220000Z
X-MICROSOFT-CDO-ALLDAYEVENT:FALSE
SUMMARY:The Wine Educational Series: Summertime Sippers
DESCRIPTION:Join us for an educational afternoon in which we discuss four different wines our Wine Director has curated to fit this summertime weather perfectly. These summertime sippers are going to be your new favorites.
X-ALT-DESC;FMTTYPE=text/html:Join us for an educational afternoon in which we discuss four different wines our Wine Director has curated to fit this summertime weather perfectly. These summertime sippers are going to be your new favorites.
LOCATION:The Barn at The Hope Farm
UID:e.1304.34132
SEQUENCE:3
DTSTAMP:20260423T201901Z
URL:http://business.eschamber.org/events/details/the-wine-educational-series-summertime-sippers-34132
END:VEVENT

END:VCALENDAR
