BEGIN:VCALENDAR
VERSION:2.0
PRODID:-//ChamberMaster//Event Calendar 2.0//EN
METHOD:PUBLISH
X-PUBLISHED-TTL:P3D
REFRESH-INTERVAL:P3D
CALSCALE:GREGORIAN
BEGIN:VEVENT
DTSTART:20241116T210000Z
DTEND:20241116T230000Z
X-MICROSOFT-CDO-ALLDAYEVENT:FALSE
SUMMARY:The Wine Educational Series: Wines of Fall
DESCRIPTION:What wines do you drink during the Fall months? This is a topic of conversation each holiday season\, as we start spending time more with our friends and family. This part of our wine series will focus on what we drink during this time of the year\, as the chill in the air returns and the leaves begin to change. Join our team as we share some of our fall favorites with you and you can share these with your favorite people during this holiday season. Menu: 1st Wine: Gruet "Blanc de Blancs" Chardonnay New Mexico NV Pairing: Cheddar Goug re 2nd Wine: Schloss Gobelsberg Gruner Veltliner Kamptal\, Austria 2022 Pairing: Pepper Madeleines with Grapefruit Zest 3rd Wine: Jean Louis Chave "Mon Coeur" Cotes-du-Rhone\, France 2020 Pairing: Duck Fat Caramel 4th Wine: Sunspell Cabernet Sauvignon Australia 2021 Pairing: Dried Fruit Biscotti
X-ALT-DESC;FMTTYPE=text/html:What wines do you drink during the Fall months? This is a topic of conversation each holiday season\, as we start spending time more with our friends and family. This part of our wine series will focus on what we drink during this time of the year\, as the chill in the air returns and the leaves begin to change. Join our team as we share some of our fall favorites with you and you can share these with your favorite people during this holiday season. Menu: 1st Wine: Gruet &ldquo\;Blanc de Blancs&rdquo\; Chardonnay New Mexico NV Pairing: Cheddar Goug&egrave\;re 2nd Wine: Schloss Gobelsberg Gruner Veltliner Kamptal\, Austria 2022 Pairing: Pepper Madeleines with Grapefruit Zest 3rd Wine: Jean Louis Chave &ldquo\;Mon Coeur&rdquo\; Cotes-du-Rhone\, France 2020 Pairing: Duck Fat Caramel 4th Wine: Sunspell Cabernet Sauvignon Australia 2021 Pairing: Dried Fruit Biscotti
LOCATION:The Barn at The Hope Farm
UID:e.1304.35852
SEQUENCE:3
DTSTAMP:20260425T152824Z
URL:http://business.eschamber.org/events/details/the-wine-educational-series-wines-of-fall-35852
END:VEVENT

END:VCALENDAR
