BEGIN:VCALENDAR
VERSION:2.0
PRODID:-//ChamberMaster//Event Calendar 2.0//EN
METHOD:PUBLISH
X-PUBLISHED-TTL:P3D
REFRESH-INTERVAL:P3D
CALSCALE:GREGORIAN
BEGIN:VEVENT
DTSTART:20240413T200000Z
DTEND:20240413T220000Z
X-MICROSOFT-CDO-ALLDAYEVENT:FALSE
SUMMARY:The Wine Educational Series - Wines of Spring
DESCRIPTION:What better way to celebrate spring than to drink all things light and bright? Join us as we sip and savor four different examples of light and vibrant wines from different parts of the world. We start the trip in France where we sip sparkling by Cave de Bissey. Next we sip on the highly aroma-c Chateau Thieuley Bourdeaux Blanc. White Rioja is the next wine on this trip and CVNE over delivers. Followed by Te Mata's Gamay Noir out of Hawke's Bay New Zealand.
X-ALT-DESC;FMTTYPE=text/html:What better way to celebrate spring than to drink all things light and bright? Join us as we sip and savor four different examples of light and vibrant wines from different parts of the world. We start the trip in France where we sip sparkling by Cave de Bissey. Next we sip on the highly aroma-c Chateau Thieuley Bourdeaux Blanc. White Rioja is the next wine on this trip and CVNE over delivers. Followed by Te Mata&rsquo\;s Gamay Noir out of Hawke&rsquo\;s Bay New Zealand.
LOCATION:The Hall at The Hope Farm
UID:e.1304.30107
SEQUENCE:3
DTSTAMP:20260426T005402Z
URL:http://business.eschamber.org/events/details/the-wine-educational-series-wines-of-spring-30107
END:VEVENT

END:VCALENDAR
