BEGIN:VCALENDAR
VERSION:2.0
PRODID:-//ChamberMaster//Event Calendar 2.0//EN
METHOD:PUBLISH
X-PUBLISHED-TTL:P3D
REFRESH-INTERVAL:P3D
CALSCALE:GREGORIAN
BEGIN:VEVENT
DTSTART:20240907T200000Z
DTEND:20240907T220000Z
X-MICROSOFT-CDO-ALLDAYEVENT:FALSE
SUMMARY:The Wine Educational Series - Wines of Washington
DESCRIPTION:Join us for an educational afternoon of four different wines and paired snacks as we discuss the unique terroir and wines of Washington. Our Wine Director\, Will Jones\, will discuss these wines\, their differences\, similarities\, and what makes Washington wine unique.
X-ALT-DESC;FMTTYPE=text/html:Join us for an educational afternoon of four different wines and paired snacks as we discuss the unique terroir and wines of Washington. Our Wine Director\, Will Jones\, will discuss these wines\, their differences\, similarities\, and what makes Washington wine unique.
LOCATION:The Barn at The Hope Farm
UID:e.1304.35670
SEQUENCE:3
DTSTAMP:20260423T184542Z
URL:http://business.eschamber.org/events/details/the-wine-educational-series-wines-of-washington-35670
END:VEVENT

END:VCALENDAR
