BEGIN:VCALENDAR
VERSION:2.0
PRODID:-//ChamberMaster//Event Calendar 2.0//EN
METHOD:PUBLISH
X-PUBLISHED-TTL:P3D
REFRESH-INTERVAL:P3D
CALSCALE:GREGORIAN
BEGIN:VEVENT
DTSTART:20240402T170000Z
DTEND:20240402T190000Z
X-MICROSOFT-CDO-ALLDAYEVENT:FALSE
SUMMARY:TherapySouth Grand Opening
DESCRIPTION:TherapySouth - Grand Opening/Ribbon Cutting
X-ALT-DESC;FMTTYPE=text/html:<span style="border: 0px\; font-variant-numeric: inherit\; font-variant-east-asian: inherit\; font-variant-alternates: inherit\; font-variant-position: inherit\; font-stretch: inherit\; font-size: 12pt\; line-height: inherit\; font-family: Calibri\, Arial\, Helvetica\, sans-serif\; font-optical-sizing: inherit\; font-kerning: inherit\; font-feature-settings: inherit\; font-variation-settings: inherit\; margin: 0px\; padding: 0px\; vertical-align: baseline\; color: rgb(0\, 0\, 0)\;"><span style="border: 0px\; font: inherit\; margin: 0px\; padding: 0px\; vertical-align: baseline\; color: inherit\;"><span style="border: 0px\; font-style: inherit\; font-variant: inherit\; font-weight: inherit\; font-stretch: inherit\; font-size: 14px\; line-height: inherit\; font-family: inherit\; font-optical-sizing: inherit\; font-kerning: inherit\; font-feature-settings: inherit\; font-variation-settings: inherit\; margin: 0px\; padding: 0px\; vertical-align: baseline\; color: inherit\;"><span style="border: 0px\; font-style: inherit\; font-variant: inherit\; font-weight: inherit\; font-stretch: inherit\; font-size: 12pt\; line-height: inherit\; font-family: inherit\; font-optical-sizing: inherit\; font-kerning: inherit\; font-feature-settings: inherit\; font-variation-settings: inherit\; margin: 0px\; padding: 0px\; vertical-align: baseline\; color: inherit\;"><b class="x_x_x_x_x_ContentPasted0 x_x_x_x_x_ContentPasted2 x_x_x_x_ContentPasted0 x_x_x_x_ContentPasted1 x_x_elementToProof x_x_ContentPasted0">TherapySouth&nbsp\;</b></span></span></span></span><span class="x_x_elementToProof" style="border: 0px\; font-variant-numeric: inherit\; font-variant-east-asian: inherit\; font-variant-alternates: inherit\; font-variant-position: inherit\; font-stretch: inherit\; font-size: 12pt\; line-height: inherit\; font-family: Calibri\, Arial\, Helvetica\, sans-serif\; font-optical-sizing: inherit\; font-kerning: inherit\; font-feature-settings: inherit\; font-variation-settings: inherit\; margin: 0px\; padding: 0px\; vertical-align: baseline\; color: rgb(0\, 0\, 0)\;">- Grand Opening/Ribbon Cutting</span>
LOCATION:Location: In the same shopping center of Publix on 181 and 104 to the far right. Address does not exist yet so use the Publix address as a reference 9867 AL-104 Fairhope\, AL 36532
UID:e.1304.30083
SEQUENCE:3
DTSTAMP:20260426T005424Z
URL:http://business.eschamber.org/events/details/therapysouth-grand-opening-30083
END:VEVENT

END:VCALENDAR
