BEGIN:VCALENDAR
VERSION:2.0
PRODID:-//ChamberMaster//Event Calendar 2.0//EN
METHOD:PUBLISH
X-PUBLISHED-TTL:P3D
REFRESH-INTERVAL:P3D
CALSCALE:GREGORIAN
BEGIN:VEVENT
DTSTART:20240419T230000Z
DTEND:20240420T030000Z
X-MICROSOFT-CDO-ALLDAYEVENT:FALSE
SUMMARY:Under the Stars
DESCRIPTION:You are invited to the Baldwin County Child Advocacy Center's 15th annual signature fundraising event "Under the Stars".  This will be a very special evening filled with live music by the fabulous Six Piece Suits Band\, great food\, dancing\, drinks\, and silent and live auctions.  Bring your friends and family and help us raise funds by investing in a very precious and important resource\, the lives of local children.
X-ALT-DESC;FMTTYPE=text/html:You are invited to the Baldwin County Child Advocacy Center&#39\;s 15th annual signature fundraising event &quot\;Under the Stars&quot\;.&nbsp\; This will be a very special evening filled with live music by the fabulous Six Piece Suits Band\, great food\, dancing\, drinks\, and silent and live auctions.&nbsp\; Bring your friends and family and help us raise funds by investing in a very precious and important resource\, the lives of local children.
LOCATION:Oak Hollow Farm\, 14210 S. Greeno Road\, Fairhope\, AL 36532
UID:e.1304.30025
SEQUENCE:3
DTSTAMP:20260426T005255Z
URL:http://business.eschamber.org/events/details/under-the-stars-30025
END:VEVENT

END:VCALENDAR
