BEGIN:VCALENDAR
VERSION:2.0
PRODID:-//ChamberMaster//Event Calendar 2.0//EN
METHOD:PUBLISH
X-PUBLISHED-TTL:P3D
REFRESH-INTERVAL:P3D
CALSCALE:GREGORIAN
BEGIN:VEVENT
DTSTART:20240501T150000Z
DTEND:20240501T170000Z
X-MICROSOFT-CDO-ALLDAYEVENT:FALSE
SUMMARY:VIPcare Grand Opening
DESCRIPTION:Grand Opening/Ribbon Cutting VIPcare
X-ALT-DESC;FMTTYPE=text/html:Grand Opening/Ribbon Cutting VIPcare
LOCATION:151 Fly Creek Ave\, Suite 411\, Fairhope\, AL 36532
UID:e.1304.30054
SEQUENCE:3
DTSTAMP:20260425T233529Z
URL:http://business.eschamber.org/events/details/vipcare-grand-opening-30054
END:VEVENT

END:VCALENDAR
