BEGIN:VCALENDAR
VERSION:2.0
PRODID:-//ChamberMaster//Event Calendar 2.0//EN
METHOD:PUBLISH
X-PUBLISHED-TTL:P3D
REFRESH-INTERVAL:P3D
CALSCALE:GREGORIAN
BEGIN:VEVENT
DTSTART:20241009T150000Z
DTEND:20241009T170000Z
X-MICROSOFT-CDO-ALLDAYEVENT:FALSE
SUMMARY:Walk to End Alzheimer's -The Reserve at Fairhope
DESCRIPTION:Join us for our inaugural Alzheimer's Mini Walk and make new friends while you make a difference. Open to residents and the Fairhope community\, this a great opportunity to raise money to help fi ght this neurodegenerative disease. Registration is from 10-11 a.m. and will include light refreshments\, music\, lawn games and raffl e prizes. The walk is scheduled to begin at 11 a.m.   rain or shine. Come enjoy the pop-up market that will feature local vendors and sponsors. Visit our company team page to register or contact Caroline Boulware for more information at cboulware@thereserveatfairhope.com or 251.270.5052
X-ALT-DESC;FMTTYPE=text/html:Join us for our inaugural Alzheimer&rsquo\;s Mini Walk and make new friends while you make a difference. Open to residents and the Fairhope community\, this a great opportunity to raise money to help fi ght this neurodegenerative disease. Registration is from 10-11 a.m. and will include light refreshments\, music\, lawn games and raffl e prizes. The walk is scheduled to begin at 11 a.m. &ndash\; rain or shine. Come enjoy the pop-up market that will feature local vendors and sponsors. Visit our company team page to register or contact Caroline Boulware for more information at cboulware@thereserveatfairhope.com or 251.270.5052
LOCATION:The Reserve at Fairhope 604 Reserve Loop Fairhope\, AL 36532 251-270-5052
UID:e.1304.35723
SEQUENCE:3
DTSTAMP:20260425T165617Z
URL:http://business.eschamber.org/events/details/walk-to-end-alzheimer-s-the-reserve-at-fairhope-35723
END:VEVENT

END:VCALENDAR
