BEGIN:VCALENDAR
VERSION:2.0
PRODID:-//ChamberMaster//Event Calendar 2.0//EN
METHOD:PUBLISH
X-PUBLISHED-TTL:P3D
REFRESH-INTERVAL:P3D
CALSCALE:GREGORIAN
BEGIN:VEVENT
DTSTART:20240418T163000Z
DTEND:20240418T173000Z
X-MICROSOFT-CDO-ALLDAYEVENT:FALSE
SUMMARY:Webinar | Planning Your Restaurants Path to Profitability
DESCRIPTION:Ever wondered where to splurge and where to safely conserve when it comes to operating and growing your restaurant? ??\n\nJoin James Kahler\, COO of Full Course and industry visionary\, in this new webinar where he'll talk all about best practices to invest in your restaurant's success! Whether you're a new business or an established restaurant\, a seasoned pro or a rookie\, you'll learn the keys to sustainable success in this competitive industry.\n\nAs an attendee\, you'll walk away with a clearer understanding of:\n\n\n	How to craft a strategic plan that encompasses defining and tracking key metrics for informed decision-making and ultimate prosperity ??\n	How to implement cost-saving measures while maintaining quality ??\n	How to identify strategic investment opportunities for restaurant success ??\n\n\n...and more! From managing food costs to investing in equipment and personnel\, don't miss this opportunity to elevate your restaurant's performance and profitability!\n\nApril 18th\, 2024 a11:30am\n\nBrought to you by Table Needs
X-ALT-DESC;FMTTYPE=text/html:<p>Ever wondered where to splurge and where to safely conserve when it comes to operating and growing your restaurant? ??</p>\n\n<p>Join James Kahler\, COO of Full Course and industry visionary\, in this new webinar where he&#39\;ll talk all about best practices to invest in your restaurant&#39\;s success! Whether you&#39\;re a new business or an established restaurant\, a seasoned pro or a rookie\, you&#39\;ll learn the keys to sustainable success in this competitive industry.</p>\n\n<p>As an attendee\, you&#39\;ll walk away with a clearer understanding of:</p>\n\n<ul style="margin-left:0px">\n	<li>How to craft a strategic plan that encompasses defining and tracking key metrics for informed decision-making and ultimate prosperity ??</li>\n	<li>How to implement cost-saving measures while maintaining quality ??</li>\n	<li>How to identify strategic investment opportunities for restaurant success ??</li>\n</ul>\n\n<p>...and more! From managing food costs to investing in equipment and personnel\, don&#39\;t miss this opportunity to elevate your restaurant&#39\;s performance and profitability!</p>\n\n<p><strong>April 18th\, 2024 a11:30am</strong></p>\n\n<p>Brought to you by Table Needs</p>\n
LOCATION:
UID:e.1304.30118
SEQUENCE:3
DTSTAMP:20260426T005237Z
URL:http://business.eschamber.org/events/details/webinar-planning-your-restaurants-path-to-profitability-30118
END:VEVENT

END:VCALENDAR
