BEGIN:VCALENDAR
VERSION:2.0
PRODID:-//ChamberMaster//Event Calendar 2.0//EN
METHOD:PUBLISH
X-PUBLISHED-TTL:P3D
REFRESH-INTERVAL:P3D
CALSCALE:GREGORIAN
BEGIN:VEVENT
DTSTART:20240421T003000Z
DTEND:20240421T023000Z
X-MICROSOFT-CDO-ALLDAYEVENT:FALSE
SUMMARY:Women Icons of Country
DESCRIPTION:Join us for Women Icons of Country: A Salute to the Music of Tammy\, Loretta\, Patsy & Dolly at OWA Theater on April 20th! This captivating show featuring the talented artist Lannette Brasher. The performance pays tribute to the iconic women of country music such as Tammy Wynette\, Loretta Lynn\, Patsy Cline\, and Dolly Parton. With a special focus on their timeless hits\, the audience can expect a nostalgic journey through the classic country tunes that have left a lasting impact on the genre.\n\nLannette Brasher\, renowned for her remarkable voice and stage presence showcased in Cashback\, breathes life into these iconic songs. Brace yourself for an unforgettable evening that highlights the enduring legacy of these trailblazing women in country music. The spotlight on the classic "Rose Colored Glasses" adds an extra layer of charm\, promising an experience filled with musical excellence and a heartfelt salute to these country music icons.\n\nMore than just a concert\, Women Icons of Country is a profound tribute\, honoring the influence and contributions of these remarkable women to the world of country music. Secure your tickets now for a celebration of musical excellence and a sincere homage to these country music legends! https://visitowa.com/women-icons-of-country/
X-ALT-DESC;FMTTYPE=text/html:Join us for Women Icons of Country: A Salute to the Music of Tammy\, Loretta\, Patsy &amp\; Dolly at OWA Theater on April 20th! This captivating show featuring the talented artist Lannette Brasher. The performance pays tribute to the iconic women of country music such as Tammy Wynette\, Loretta Lynn\, Patsy Cline\, and Dolly Parton. With a special focus on their timeless hits\, the audience can expect a nostalgic journey through the classic country tunes that have left a lasting impact on the genre.<br />\nLannette Brasher\, renowned for her remarkable voice and stage presence showcased in Cashback\, breathes life into these iconic songs. Brace yourself for an unforgettable evening that highlights the enduring legacy of these trailblazing women in country music. The spotlight on the classic &quot\;Rose Colored Glasses&quot\; adds an extra layer of charm\, promising an experience filled with musical excellence and a heartfelt salute to these country music icons.<br />\nMore than just a concert\, Women Icons of Country is a profound tribute\, honoring the influence and contributions of these remarkable women to the world of country music. Secure your tickets now for a celebration of musical excellence and a sincere homage to these country music legends! https://visitowa.com/women-icons-of-country/
LOCATION:Location: OWA Theater
UID:e.1304.30002
SEQUENCE:3
DTSTAMP:20260426T010002Z
URL:http://business.eschamber.org/events/details/women-icons-of-country-30002
END:VEVENT

END:VCALENDAR
