BEGIN:VCALENDAR
VERSION:2.0
PRODID:-//ChamberMaster//Event Calendar 2.0//EN
METHOD:PUBLISH
X-PUBLISHED-TTL:P3D
REFRESH-INTERVAL:P3D
CALSCALE:GREGORIAN
BEGIN:VEVENT
DTSTART:20241121T234500Z
DTEND:20241122T020000Z
X-MICROSOFT-CDO-ALLDAYEVENT:FALSE
SUMMARY:Young Professionals Bowling for Books
DESCRIPTION:Join the Eastern Shore Young Professionals for the annual Bowling for Books event at Eastern Shore Lanes in Spanish Fort! \n\n\n\nProceeds raise money for the Spanish Fort Public Library Summer Reading Program! \n\n\n\nBowling teams can be purchased for $300 per team of 4-5 players. \n\nNON-Players is a $5 donation! \n\n\n\nThis is a FUN event with prizes and raffles!
X-ALT-DESC;FMTTYPE=text/html:Join the Eastern Shore Young Professionals for the annual Bowling for Books event at Eastern Shore Lanes in Spanish Fort!&nbsp\;<br />\n<br />\n<em><strong>Proceeds raise money for the Spanish Fort Public Library Summer Reading Program!&nbsp\;</strong></em><br />\n<br />\nBowling teams can be purchased for $300 per team of 4-5 players.&nbsp\;<br />\nNON-Players is a $5 donation!&nbsp\;<br />\n<br />\nThis is a FUN event with prizes and raffles!&nbsp\;
LOCATION:Eastern Shore Lanes 10460 Eastern Shore Blvd Spanish Fort\, AL 36527
UID:e.1304.35686
SEQUENCE:3
DTSTAMP:20260425T152706Z
URL:http://business.eschamber.org/events/details/young-professionals-bowling-for-books-35686
END:VEVENT

END:VCALENDAR
