BEGIN:VCALENDAR
VERSION:2.0
PRODID:-//ChamberMaster//Event Calendar 2.0//EN
METHOD:PUBLISH
X-PUBLISHED-TTL:P3D
REFRESH-INTERVAL:P3D
CALSCALE:GREGORIAN
BEGIN:VEVENT
DTSTART:20240412T133000Z
DTEND:20240412T143000Z
X-MICROSOFT-CDO-ALLDAYEVENT:FALSE
SUMMARY:Young Professionals Coffee Social: Provisions
DESCRIPTION:Join us for a Coffee Social at Provisions in Fairhope!
X-ALT-DESC;FMTTYPE=text/html:Join us for a Coffee Social at Provisions in Fairhope!&nbsp\;<br />\n&nbsp\;
LOCATION:Provisions 100 N Section Street Fairhope\, AL
UID:e.1304.30078
SEQUENCE:3
DTSTAMP:20260426T005402Z
URL:http://business.eschamber.org/events/details/young-professionals-coffee-social-provisions-30078
END:VEVENT

END:VCALENDAR
