BEGIN:VCALENDAR
VERSION:2.0
PRODID:-//ChamberMaster//Event Calendar 2.0//EN
METHOD:PUBLISH
X-PUBLISHED-TTL:P3D
REFRESH-INTERVAL:P3D
CALSCALE:GREGORIAN
BEGIN:VEVENT
DTSTART:20240516T223000Z
DTEND:20240517T003000Z
X-MICROSOFT-CDO-ALLDAYEVENT:FALSE
SUMMARY:Young Professionals May Social @ Cafe Viola
DESCRIPTION:Join us for our May Young Professionals Social at Cafe Viola in Fairhope.
X-ALT-DESC;FMTTYPE=text/html:Join us for our May Young Professionals Social at Cafe Viola in Fairhope.&nbsp\;
LOCATION:Cafe Viola 51 S Church Street\, Fairhope\, AL
UID:e.1304.31327
SEQUENCE:3
DTSTAMP:20260425T233423Z
URL:http://business.eschamber.org/events/details/young-professionals-may-social-cafe-viola-31327
END:VEVENT

END:VCALENDAR
