BEGIN:VCALENDAR
VERSION:2.0
PRODID:-//ChamberMaster//Event Calendar 2.0//EN
METHOD:PUBLISH
X-PUBLISHED-TTL:P3D
REFRESH-INTERVAL:P3D
CALSCALE:GREGORIAN
BEGIN:VEVENT
DTSTART:20240321T223000Z
DTEND:20240322T003000Z
X-MICROSOFT-CDO-ALLDAYEVENT:FALSE
SUMMARY:Young Professionals Social at Beef O'Bradys
DESCRIPTION:Young Professionals Social at Beef O'Bradys! \n\n\n\nThank you to this month's sponsor\, Eastern Shore Ace Hardware.
X-ALT-DESC;FMTTYPE=text/html:Young Professionals Social at Beef O&#39\;Bradys!&nbsp\;<br />\n<br />\nThank you to this month&#39\;s sponsor\, Eastern Shore Ace Hardware.
LOCATION:Beef O'Bradys 8495 Spanish Fort Blvd\, Spanish Fort\, AL 36527
UID:e.1304.29086
SEQUENCE:3
DTSTAMP:20260426T021918Z
URL:http://business.eschamber.org/events/details/young-professionals-social-at-beef-o-bradys-29086
END:VEVENT

END:VCALENDAR
