BEGIN:VCALENDAR
VERSION:2.0
PRODID:-//ChamberMaster//Event Calendar 2.0//EN
METHOD:PUBLISH
X-PUBLISHED-TTL:P3D
REFRESH-INTERVAL:P3D
CALSCALE:GREGORIAN
BEGIN:VEVENT
DTSTART:20241024T223000Z
DTEND:20241025T003000Z
X-MICROSOFT-CDO-ALLDAYEVENT:FALSE
SUMMARY:Young Professionals Social: The Tiki Bar
DESCRIPTION:Join us for our October Young Professionals Social at The Tiki Bar at the American Legion on Thursday\, October 24 from 5:30 PM - 7:30 PM. \n\n\n\n*National Anthem plays at 5:00 PM*\n\n\n\nFREE TO ATTEND! Participant responsible for person drink and food purchase.
X-ALT-DESC;FMTTYPE=text/html:Join us for our October Young Professionals Social at The Tiki Bar at the American Legion on Thursday\, October 24 from 5:30 PM - 7:30 PM.&nbsp\;<br />\n<br />\n*National Anthem plays at 5:00 PM*<br />\n<br />\nFREE TO ATTEND! Participant responsible for person drink and food purchase.&nbsp\;
LOCATION:The Tiki Bar at the American Legion 561 S Mobile St\, Fairhope\, AL 36532
UID:e.1304.35731
SEQUENCE:3
DTSTAMP:20260425T165443Z
URL:http://business.eschamber.org/events/details/young-professionals-social-the-tiki-bar-35731
END:VEVENT

END:VCALENDAR
