BEGIN:VCALENDAR
VERSION:2.0
PRODID:-//ChamberMaster//Event Calendar 2.0//EN
METHOD:PUBLISH
X-PUBLISHED-TTL:P3D
REFRESH-INTERVAL:P3D
CALSCALE:GREGORIAN
BEGIN:VEVENT
DTSTART:20260123T140000Z
DTEND:20260123T220000Z
X-MICROSOFT-CDO-ALLDAYEVENT:FALSE
SUMMARY:Young Professionals Summit 1-23-26
DESCRIPTION:Join us for the 2026 Young Professionals Summit\,\n\nPresented by Novelis & the Eastern Shore Chamber of Commerce Young Professionals\n\nPlug in\, power up\, and get ready to energize your career at the Young Professionals Summit 2026: Strengthen the Current   Power Through Connection! \n\nThis year's theme focuses on harnessing the energy within ourselves\, our networks\, and our community to create positive momentum and sustainable growth. Through inspiring keynote speakers\, interactive workshops\, and meaningful networking\, attendees will discover how to stay charged\, connected\, and empowered in today's fast-paced professional landscape.\n\nJoin us for a high-voltage day of connection\, collaboration\, and career growth as we strengthen the current that drives Baldwin County's next generation of leaders\, all powered by our Presenting Sponsor\, Novelis.\n\n\n\nWe will end the day with networking at Buckey's Lounge @ The Grand Hotel.
X-ALT-DESC;FMTTYPE=text/html:<p data-end="252" data-start="170">Join us for the 2026 Young Professionals Summit\,<br />\nPresented by Novelis &amp\; the Eastern Shore Chamber of Commerce Young Professionals</p>\n\n<p data-end="408" data-start="254">Plug in\, power up\, and get ready to energize your career at the Young Professionals Summit 2026: Strengthen the Current &ndash\; Power Through Connection!&nbsp\;</p>\n\n<p data-end="766" data-start="410">This year&rsquo\;s theme focuses on harnessing the energy within ourselves\, our networks\, and our community to create positive momentum and sustainable growth. Through inspiring keynote speakers\, interactive workshops\, and meaningful networking\, attendees will discover how to stay charged\, connected\, and empowered in today&rsquo\;s fast-paced professional landscape.</p>\n\n<p data-end="1118" data-start="898">Join us for a high-voltage day of connection\, collaboration\, and career growth as we strengthen the current that drives Baldwin County&rsquo\;s next generation of leaders\, all powered by our Presenting Sponsor\, Novelis.<br />\n<br />\nWe will end the day with networking at Buckey&#39\;s Lounge @ The Grand Hotel.</p>\n
LOCATION:The Grand Hotel Golf Resort & Spa One Grand Blvd Point Clear\, AL 36564
UID:e.1304.39469
SEQUENCE:3
DTSTAMP:20260422T134907Z
URL:http://business.eschamber.org/events/details/young-professionals-summit-1-23-26-39469
END:VEVENT

END:VCALENDAR
